BEGIN:VCALENDAR
VERSION:2.0
PRODID:-//Access and Support Centre - ECPv6.15.13//NONSGML v1.0//EN
CALSCALE:GREGORIAN
METHOD:PUBLISH
X-ORIGINAL-URL:https://durhamcollege.ca/asc
X-WR-CALDESC:Events for Access and Support Centre
REFRESH-INTERVAL;VALUE=DURATION:PT1H
X-Robots-Tag:noindex
X-PUBLISHED-TTL:PT1H
BEGIN:VTIMEZONE
TZID:UTC
BEGIN:STANDARD
TZOFFSETFROM:+0000
TZOFFSETTO:+0000
TZNAME:UTC
DTSTART:20210101T000000
END:STANDARD
END:VTIMEZONE
BEGIN:VEVENT
DTSTART;TZID=UTC:20220131T140000
DTEND;TZID=UTC:20220131T150000
DTSTAMP:20260421T161212
CREATED:20220128T181847Z
LAST-MODIFIED:20220128T181847Z
UID:2277-1643637600-1643641200@durhamcollege.ca
SUMMARY:Enhance Your Self-Esteem
DESCRIPTION:Living through this pandemic can make us feel alone and hopeless and can also affect our selfesteem in many ways. In this group you will learn about self-esteem and ways that you can change negatives into positives. Each week you will be introduced to healthy self-esteem strategies with a creative twist that will help build your self-esteem so that you can be the best self that you envision to be! \nFormat: Drop-In – to join press link below:\nhttps://teams.microsoft.com/l/channel/19%3ag5LBNTDmAhZBRC6wy1hwJ3UtzZQJg9HNKXNv2q5jhcI1%40thread.tacv2/General?groupId=0086f641-bae3-4640-baaf-e20a28cf5558&tenantId=49bba7a4-424b-4070-a70e-886e9dd7caef\nLed by peer coach Emily Ormond
URL:https://durhamcollege.ca/asc/event/enhance-your-self-esteem/2022-01-31/
END:VEVENT
BEGIN:VEVENT
DTSTART;TZID=UTC:20220131T160000
DTEND;TZID=UTC:20220131T170000
DTSTAMP:20260421T161212
CREATED:20220128T181711Z
LAST-MODIFIED:20220128T183108Z
UID:2270-1643644800-1643648400@durhamcollege.ca
SUMMARY:Take a Wellness Break
DESCRIPTION:Take a break from your busy schedule to regroup and check in with yourself. Drop in and join us to participate in activities that are creative and relaxing and help us reconnect with ourselves. We will engage in a new activity each week like journal prompts\, meditation\, vision boards\, scavenger hunts and much more. \nFormat: Drop-In – to join press link below:\nhttps://teams.microsoft.com/l/channel/19%3ajs6YpiKm4wpfL7fzRmLLhkwMRK6_AmHynkPd5nJfiqg1%40thread.tacv2/General?groupId=4f359230-0255-4c5d-a0ce-c0dc4b60efff&tenantId=49bba7a4-424b-4070-a70e-886e9dd7caef \nLed by peer coach Rachel Dulay
URL:https://durhamcollege.ca/asc/event/take-a-wellness-break/2022-01-31/
END:VEVENT
BEGIN:VEVENT
DTSTART;TZID=UTC:20220201T140000
DTEND;TZID=UTC:20220201T150000
DTSTAMP:20260421T161212
CREATED:20220128T182101Z
LAST-MODIFIED:20220128T183320Z
UID:2289-1643724000-1643727600@durhamcollege.ca
SUMMARY:ASC Social Meet-Up Group
DESCRIPTION:Take this opportunity to meet some new people and have some fun. Join us each week for various games and activities including Dominoes\, Kahoot\, Scrabble\, Psych and a lot more. \nFormat: Drop-In – to join press link below: https://teams.microsoft.com/l/channel/19%3aSMeDtiAwBFgHJUF3UiznWG17Td6hxHhdBQ8OBskGiWg1%40thread.tacv2/General?groupId=9778a2fb-937b-4d1f-8b8c-1eab8abc2822&tenantId=49bba7a4-424b-4070-a70e-886e9dd7caef\nLed by peer coach Garcia Rapheal
URL:https://durhamcollege.ca/asc/event/asc-social-meet-up-group/2022-02-01/
END:VEVENT
BEGIN:VEVENT
DTSTART;TZID=UTC:20220202T100000
DTEND;TZID=UTC:20220202T110000
DTSTAMP:20260421T161212
CREATED:20220128T182440Z
LAST-MODIFIED:20220128T182440Z
UID:2302-1643796000-1643799600@durhamcollege.ca
SUMMARY:Drop-in Peer Coaching
DESCRIPTION:Come meet with a peer coach for help with time management\, organization\, scheduling\, prioritizing\nclass work\, assignment clarification\, DC Connect/MyCampus orientation\, or study skills. No\ncommitment – just drop-in when needed \nFormat: Drop-In – to join press link below:\nhttps://teams.microsoft.com/l/channel/19%3aPLjdZ22UvX9jv973B0kK99xbee5DhWo191IKi-7zigQ1%40thread.tacv2/General?groupId=32b5b2af-e604-407f-bd14-d49764f52d12&tenantId=49bba7a4-424b-4070-a70e-886e9dd7caef\nLed by peer coach Nadia Sifr
URL:https://durhamcollege.ca/asc/event/drop-in-peer-coaching/2022-02-02/
END:VEVENT
END:VCALENDAR