BEGIN:VCALENDAR
VERSION:2.0
PRODID:-//Access and Support Centre - ECPv6.15.13//NONSGML v1.0//EN
CALSCALE:GREGORIAN
METHOD:PUBLISH
X-WR-CALNAME:Access and Support Centre
X-ORIGINAL-URL:https://durhamcollege.ca/asc
X-WR-CALDESC:Events for Access and Support Centre
REFRESH-INTERVAL;VALUE=DURATION:PT1H
X-Robots-Tag:noindex
X-PUBLISHED-TTL:PT1H
BEGIN:VTIMEZONE
TZID:UTC
BEGIN:STANDARD
TZOFFSETFROM:+0000
TZOFFSETTO:+0000
TZNAME:UTC
DTSTART:20210101T000000
END:STANDARD
END:VTIMEZONE
BEGIN:VEVENT
DTSTART;TZID=UTC:20220209T130000
DTEND;TZID=UTC:20220209T140000
DTSTAMP:20260421T184331
CREATED:20220128T182709Z
LAST-MODIFIED:20220128T182709Z
UID:2327-1644411600-1644415200@durhamcollege.ca
SUMMARY:ADHD Support Group
DESCRIPTION:This virtual group meets twice monthly (every other Wednesday afternoon) to discuss challenges and strategies for managing ADHD. Participants will have the opportunity to connect with other students\, share resources and experiences. Enhance self-esteem in a supportive and encouraging environment. \nFormat: Registration required – to register email shayna.golding@durhamcollege.ca\nLed by ASC Counsellor Shayna Golding
URL:https://durhamcollege.ca/asc/event/adhd-support-group-3/2022-02-09/
END:VEVENT
END:VCALENDAR