BEGIN:VCALENDAR
VERSION:2.0
PRODID:-//Access and Support Centre - ECPv6.15.13//NONSGML v1.0//EN
CALSCALE:GREGORIAN
METHOD:PUBLISH
X-ORIGINAL-URL:https://durhamcollege.ca/asc
X-WR-CALDESC:Events for Access and Support Centre
REFRESH-INTERVAL;VALUE=DURATION:PT1H
X-Robots-Tag:noindex
X-PUBLISHED-TTL:PT1H
BEGIN:VTIMEZONE
TZID:UTC
BEGIN:STANDARD
TZOFFSETFROM:+0000
TZOFFSETTO:+0000
TZNAME:UTC
DTSTART:20210101T000000
END:STANDARD
END:VTIMEZONE
BEGIN:VEVENT
DTSTART;TZID=UTC:20220223T130000
DTEND;TZID=UTC:20220223T140000
DTSTAMP:20260421T184559
CREATED:20220128T182922Z
LAST-MODIFIED:20220128T182922Z
UID:2336-1645621200-1645624800@durhamcollege.ca
SUMMARY:Understanding Your LD
DESCRIPTION:Are you having difficulty understanding your psycho-educational assessment? What does having a Learning Disability mean and how can you use this information to help yourself at college. Come join us as we break down your psycho-educational assessment and explore the various strategies and accommodations that can best support your learning. \nFormat: Registration required – to register email paula.desaulniers@durhamcollege.ca\nLed by ASC Counsellor Paula Desaulniers
URL:https://durhamcollege.ca/asc/event/understanding-your-ld/2022-02-23/
END:VEVENT
BEGIN:VEVENT
DTSTART;TZID=UTC:20220224T130000
DTEND;TZID=UTC:20220224T140000
DTSTAMP:20260421T184559
CREATED:20220128T182835Z
LAST-MODIFIED:20220128T182835Z
UID:2334-1645707600-1645711200@durhamcollege.ca
SUMMARY:Employment Series Part 2: Accommodations in the Workplace
DESCRIPTION:What are reasonable accommodations in the workplace? How do you request accommodations at\nwork? Come join us for this virtual session to learn all about workplace accommodations. \nFormat: Registration required – to register email shayna.golding@durhamcollege.ca\nLed by ASC Counsellor Shayna Golding
URL:https://durhamcollege.ca/asc/event/employment-series-part-2-accommodations-in-the-workplace/
END:VEVENT
END:VCALENDAR