BEGIN:VCALENDAR
VERSION:2.0
PRODID:-//Access and Support Centre - ECPv6.15.13//NONSGML v1.0//EN
CALSCALE:GREGORIAN
METHOD:PUBLISH
X-ORIGINAL-URL:https://durhamcollege.ca/asc
X-WR-CALDESC:Events for Access and Support Centre
REFRESH-INTERVAL;VALUE=DURATION:PT1H
X-Robots-Tag:noindex
X-PUBLISHED-TTL:PT1H
BEGIN:VTIMEZONE
TZID:UTC
BEGIN:STANDARD
TZOFFSETFROM:+0000
TZOFFSETTO:+0000
TZNAME:UTC
DTSTART:20210101T000000
END:STANDARD
END:VTIMEZONE
BEGIN:VEVENT
DTSTART;TZID=UTC:20220322T110000
DTEND;TZID=UTC:20220322T120000
DTSTAMP:20260421T184612
CREATED:20220128T182534Z
LAST-MODIFIED:20220128T182534Z
UID:2325-1647946800-1647950400@durhamcollege.ca
SUMMARY:Pawsitive Coping
DESCRIPTION:Learn how to cope with stress more effectively. Meet with other students and bring your fury friend/pet pal to this virtual group. Share experiences and discuss how connecting and interacting with animals can promote physical and emotional well-being. \nFormat: Registration required – to register email shayna.golding@durhamcollege.ca\nLed by ASC Counsellor Shayna Golding
URL:https://durhamcollege.ca/asc/event/pawsitive-coping/
END:VEVENT
END:VCALENDAR