BEGIN:VCALENDAR
VERSION:2.0
PRODID:-//Access and Support Centre - ECPv6.15.13//NONSGML v1.0//EN
CALSCALE:GREGORIAN
METHOD:PUBLISH
X-WR-CALNAME:Access and Support Centre
X-ORIGINAL-URL:https://durhamcollege.ca/asc
X-WR-CALDESC:Events for Access and Support Centre
REFRESH-INTERVAL;VALUE=DURATION:PT1H
X-Robots-Tag:noindex
X-PUBLISHED-TTL:PT1H
BEGIN:VTIMEZONE
TZID:UTC
BEGIN:STANDARD
TZOFFSETFROM:+0000
TZOFFSETTO:+0000
TZNAME:UTC
DTSTART:20210101T000000
END:STANDARD
END:VTIMEZONE
BEGIN:VEVENT
DTSTART;TZID=UTC:20220524T090000
DTEND;TZID=UTC:20220524T110000
DTSTAMP:20260421T122519
CREATED:20220519T133238Z
LAST-MODIFIED:20220519T133238Z
UID:2672-1653382800-1653390000@durhamcollege.ca
SUMMARY:Peer Social Group
DESCRIPTION:Take a break from studying and come join the Access and Support Centre Peer Social Group. This is an in-person social group for students who like to have fun and meet new people. Join us each week for various games and activities.\nDays: Tuesdays from May 24 to August 9\, from 11 a.m. to noon\nOshawa Campus – Access and Support Centre
URL:https://durhamcollege.ca/asc/event/peer-social-group/2022-05-24/
END:VEVENT
END:VCALENDAR