BEGIN:VCALENDAR
VERSION:2.0
PRODID:-//Access and Support Centre - ECPv6.15.13//NONSGML v1.0//EN
CALSCALE:GREGORIAN
METHOD:PUBLISH
X-ORIGINAL-URL:https://durhamcollege.ca/asc
X-WR-CALDESC:Events for Access and Support Centre
REFRESH-INTERVAL;VALUE=DURATION:PT1H
X-Robots-Tag:noindex
X-PUBLISHED-TTL:PT1H
BEGIN:VTIMEZONE
TZID:UTC
BEGIN:STANDARD
TZOFFSETFROM:+0000
TZOFFSETTO:+0000
TZNAME:UTC
DTSTART:20210101T000000
END:STANDARD
END:VTIMEZONE
BEGIN:VEVENT
DTSTART;TZID=UTC:20220530T170000
DTEND;TZID=UTC:20220530T180000
DTSTAMP:20260421T152233
CREATED:20220519T133437Z
LAST-MODIFIED:20220519T133437Z
UID:2685-1653930000-1653933600@durhamcollege.ca
SUMMARY:Virtual Drop-In Peer Coaching
DESCRIPTION:Come meet with a peer coach for help with time management\, organization\, scheduling\, prioritizing and assignment clarification or DC Connect/MyCampus orientation. No commitment – Virtual Drop-in sessions on Microsoft Teams. \nDay: Mondays from May 30 to August 8\, from 5-6 p.m. \nTo join\, please click on the link Click here to join the meeting
URL:https://durhamcollege.ca/asc/event/virtual-drop-in-peer-coaching/2022-05-30/
END:VEVENT
END:VCALENDAR